BEGIN:VCALENDAR
VERSION:2.0
PRODID:-//International American University College of Medicine
CALSCALE:GREGORIAN
METHOD:PUBLISH
X-WR-CALNAME:International American University College of Medicine
X-ORIGINAL-URL:https://iau.edu.lc/event/alumni-spotlight-dr-jessica-maaskant/
X-WR-CALDESC:Alumni Spotlight -Dr. Jessica Maaskant
BEGIN:VEVENT
DTSTART:20180307T083000
DTEND:20180307T143000
SUMMARY:Alumni Spotlight -Dr. Jessica Maaskant
DESCRIPTION:
LOCATION:
END:VEVENT
END:VCALENDAR
