BEGIN:VCALENDAR
VERSION:2.0
PRODID:-//International American University College of Medicine
CALSCALE:GREGORIAN
METHOD:PUBLISH
X-WR-CALNAME:International American University College of Medicine
X-ORIGINAL-URL:https://iau.edu.lc/event/iau-hearing-event/
X-WR-CALDESC:IAU Hearing Event
BEGIN:VEVENT
DTSTART:20180126T123000
DTEND:20180126T163000
SUMMARY:IAU Hearing Event
DESCRIPTION:
LOCATION:
END:VEVENT
END:VCALENDAR
