BEGIN:VCALENDAR
VERSION:2.0
PRODID:-//International American University College of Medicine
CALSCALE:GREGORIAN
METHOD:PUBLISH
X-WR-CALNAME:International American University College of Medicine
X-ORIGINAL-URL:https://iau.edu.lc/event/welcome-to-the-island-tour-fall-2017/
X-WR-CALDESC:Welcome to the Island Tour, Fall 2017
BEGIN:VEVENT
DTSTART:20170909T130000
DTEND:20170909T173000
SUMMARY:Welcome to the Island Tour, Fall 2017
DESCRIPTION:
LOCATION:
END:VEVENT
END:VCALENDAR
