BEGIN:VCALENDAR
VERSION:2.0
PRODID:-//International American University College of Medicine
CALSCALE:GREGORIAN
METHOD:PUBLISH
X-WR-CALNAME:International American University College of Medicine
X-ORIGINAL-URL:https://iau.edu.lc/event/orientation-for-the-new-students-fall-2017/
X-WR-CALDESC:Orientation for the New Students, Fall 2017
BEGIN:VEVENT
DTSTART:20170904T090000
DTEND:20170905T160000
SUMMARY:Orientation for the New Students, Fall 2017
DESCRIPTION:
LOCATION:
END:VEVENT
END:VCALENDAR
