BEGIN:VCALENDAR
VERSION:2.0
PRODID:-//International American University College of Medicine
CALSCALE:GREGORIAN
METHOD:PUBLISH
X-WR-CALNAME:International American University College of Medicine
X-ORIGINAL-URL:https://iau.edu.lc/event/iau-participates-in-mass-casualty-simulation-exercise-at-st-lucias-hewanorra-airport/
X-WR-CALDESC:IAU PARTICIPATES IN MASS CASUALTY SIMULATION EXERCISE AT ST. LUCIA’S HEWANORRA AIRPORT.
BEGIN:VEVENT
DTSTART:20141212T090000
DTEND:20141212T120000
SUMMARY:IAU PARTICIPATES IN MASS CASUALTY SIMULATION EXERCISE AT ST. LUCIA’S HEWANORRA AIRPORT.
DESCRIPTION:
LOCATION:
END:VEVENT
END:VCALENDAR
