BEGIN:VCALENDAR
VERSION:2.0
PRODID:-//International American University College of Medicine
CALSCALE:GREGORIAN
METHOD:PUBLISH
X-WR-CALNAME:International American University College of Medicine
X-ORIGINAL-URL:https://iau.edu.lc/event/iau-american-medical-students-association/
X-WR-CALDESC:IAU: AMERICAN MEDICAL STUDENT’S ASSOCIATION
BEGIN:VEVENT
DTSTART:20160104T090000
DTEND:20160104T130000
SUMMARY:IAU: AMERICAN MEDICAL STUDENT’S ASSOCIATION
DESCRIPTION:
LOCATION:
END:VEVENT
END:VCALENDAR
