BEGIN:VCALENDAR
VERSION:2.0
PRODID:-//International American University College of Medicine
CALSCALE:GREGORIAN
METHOD:PUBLISH
X-WR-CALNAME:International American University College of Medicine
X-ORIGINAL-URL:https://iau.edu.lc/event/students-faculty-donate-books-to-vieux-fort-library/
X-WR-CALDESC:Students &#038; Faculty Donate Books to Vieux Fort Library
BEGIN:VEVENT
DTSTART:20160510T090000
DTEND:20160510T113000
SUMMARY:Students &#038; Faculty Donate Books to Vieux Fort Library
DESCRIPTION:
LOCATION:
END:VEVENT
END:VCALENDAR
