BEGIN:VCALENDAR
VERSION:2.0
PRODID:-//International American University College of Medicine
CALSCALE:GREGORIAN
METHOD:PUBLISH
X-WR-CALNAME:International American University College of Medicine
X-ORIGINAL-URL:https://iau.edu.lc/event/dave-verkh-recently-published-an-article-in-the-european-medical-journal/
X-WR-CALDESC:IAU Student&#8217;s article published in European Medical Journal
BEGIN:VEVENT
DTSTART:20170117T140000
DTEND:20170117T140000
SUMMARY:IAU Student&#8217;s article published in European Medical Journal
DESCRIPTION:
LOCATION:
END:VEVENT
END:VCALENDAR
