BEGIN:VCALENDAR
VERSION:2.0
PRODID:-//International American University College of Medicine
CALSCALE:GREGORIAN
METHOD:PUBLISH
X-WR-CALNAME:International American University College of Medicine
X-ORIGINAL-URL:https://iau.edu.lc/event/notice-medical-council-of-india-eligibility-certificate/
X-WR-CALDESC:Notice: Medical Council of India- Eligibility Certificate
BEGIN:VEVENT
DTSTART:20161019T000000
DTEND:
SUMMARY:Notice: Medical Council of India- Eligibility Certificate
DESCRIPTION:As per the new amended rules declared by the Medical Council of India (MCI), all Indian students who wish to study medicine abroad must apply for MCI Eligibility Certificate.The eligibility certificate is a legal proof given..
LOCATION:
END:VEVENT
END:VCALENDAR
