BEGIN:VCALENDAR
VERSION:2.0
PRODID:-//International American University College of Medicine
CALSCALE:GREGORIAN
METHOD:PUBLISH
X-WR-CALNAME:International American University College of Medicine
X-ORIGINAL-URL:https://iau.edu.lc/event/best-teacher-of-the-class-award/
X-WR-CALDESC:Best Teacher of the Class Award
BEGIN:VEVENT
DTSTART:20160909T000000
DTEND:
SUMMARY:Best Teacher of the Class Award
DESCRIPTION:Students at International American University selected Dr Rasheed Agboola for the best teacher of the class award for Summer 2016 semester . Dr Rasheed Agboola holds medical licenses in Grenada and Nigeria..
LOCATION:
END:VEVENT
END:VCALENDAR
