BEGIN:VCALENDAR
VERSION:2.0
PRODID:-//International American University College of Medicine
CALSCALE:GREGORIAN
METHOD:PUBLISH
X-WR-CALNAME:International American University College of Medicine
X-ORIGINAL-URL:https://iau.edu.lc/event/local-amsa-chapter-hosts-first-community-clinic/
X-WR-CALDESC:Local AMSA chapter hosts first community clinic
BEGIN:VEVENT
DTSTART:
DTEND:
SUMMARY:Local AMSA chapter hosts first community clinic
DESCRIPTION:The International American University chapter of the American Medical School Association recently host their first community clinic of the semester. The event received a large turnout from the local community.
LOCATION:
END:VEVENT
END:VCALENDAR
