BEGIN:VCALENDAR
VERSION:2.0
PRODID:-//International American University College of Medicine
CALSCALE:GREGORIAN
METHOD:PUBLISH
X-WR-CALNAME:International American University College of Medicine
X-ORIGINAL-URL:https://iau.edu.lc/event/iau-appoints-new-department-chairs/
X-WR-CALDESC:IAU appoints new clinical department chairs
BEGIN:VEVENT
DTSTART:
DTEND:
SUMMARY:IAU appoints new clinical department chairs
DESCRIPTION:International American University has recently appointed several new faculty members to serve as clinical department chairs, with each responsible for leading the department to success.  
LOCATION:
END:VEVENT
END:VCALENDAR
