BEGIN:VCALENDAR
VERSION:2.0
PRODID:-//International American University College of Medicine
CALSCALE:GREGORIAN
METHOD:PUBLISH
X-WR-CALNAME:International American University College of Medicine
X-ORIGINAL-URL:https://iau.edu.lc/event/iau-welcomes-more-than-20-students-during-wcc/
X-WR-CALDESC:IAU opens new academic year during WCC on the ST Lucia Campus
BEGIN:VEVENT
DTSTART:20160111T000000
DTEND:
SUMMARY:IAU opens new academic year during WCC on the ST Lucia Campus
DESCRIPTION:International American University welcomes Dr. Radbeh Torabi to campus to share his experiences and offer advice to the students receiving white coats during the January 2016 White Coat Ceremony.
LOCATION:
END:VEVENT
END:VCALENDAR
