BEGIN:VCALENDAR
VERSION:2.0
PRODID:-//International American University College of Medicine
CALSCALE:GREGORIAN
METHOD:PUBLISH
X-WR-CALNAME:International American University College of Medicine
X-ORIGINAL-URL:https://iau.edu.lc/event/sga-connects-campus-community-through-beach-party/
X-WR-CALDESC:SGA connects campus community through beach party
BEGIN:VEVENT
DTSTART:20160118T000000
DTEND:
SUMMARY:SGA connects campus community through beach party
DESCRIPTION:The Student Government Association of International American University, recently hosted a welcome beach party for the campus. The event is aimed at welcoming all IAU faculty, staff and students
LOCATION:
END:VEVENT
END:VCALENDAR
