BEGIN:VCALENDAR
VERSION:2.0
PRODID:-//International American University College of Medicine
CALSCALE:GREGORIAN
METHOD:PUBLISH
X-WR-CALNAME:International American University College of Medicine
X-ORIGINAL-URL:https://iau.edu.lc/event/university-establishes-partnership-with-maastricht/
X-WR-CALDESC:IAU establishes partnership with Maastricht University, Netherlands
BEGIN:VEVENT
DTSTART:20160108T000000
DTEND:
SUMMARY:IAU establishes partnership with Maastricht University, Netherlands
DESCRIPTION:International American University (IAU) and Maastricht University (UM) recently signed an agreement to establish their partnership and strengthen their dedication to educating future medical professionals.
LOCATION:
END:VEVENT
END:VCALENDAR
