BEGIN:VCALENDAR
VERSION:2.0
PRODID:-//International American University College of Medicine
CALSCALE:GREGORIAN
METHOD:PUBLISH
X-WR-CALNAME:International American University College of Medicine
X-ORIGINAL-URL:https://iau.edu.lc/event/torabi-to-host-residency-placement-workshop/
X-WR-CALDESC:Dr. Torabi to host residency placement workshop in Saint Lucia Campus
BEGIN:VEVENT
DTSTART:20160104T000000
DTEND:
SUMMARY:Dr. Torabi to host residency placement workshop in Saint Lucia Campus
DESCRIPTION:The University welcomes Dr. Radbeh Torabi, integrated plastic surgery resident, Louisiana State University, to campus to share his experiences and offer advice to the more than 20 students receiving white coats ..
LOCATION:
END:VEVENT
END:VCALENDAR
