BEGIN:VCALENDAR
VERSION:2.0
PRODID:-//International American University College of Medicine
CALSCALE:GREGORIAN
METHOD:PUBLISH
X-WR-CALNAME:International American University College of Medicine
X-ORIGINAL-URL:https://iau.edu.lc/event/multi-cultural-dinner/
X-WR-CALDESC:Multi-Cultural Dinner
BEGIN:VEVENT
DTSTART:20111028T000000
DTEND:
SUMMARY:Multi-Cultural Dinner
DESCRIPTION:
LOCATION:
END:VEVENT
END:VCALENDAR
