BEGIN:VCALENDAR
VERSION:2.0
PRODID:-//International American University College of Medicine
CALSCALE:GREGORIAN
METHOD:PUBLISH
X-WR-CALNAME:International American University College of Medicine
X-ORIGINAL-URL:https://iau.edu.lc/event/ghana-55th-independence-celebration-at-iau/
X-WR-CALDESC:Ghana 55th Independence Celebration at IAU
BEGIN:VEVENT
DTSTART:20120306T000000
DTEND:
SUMMARY:Ghana 55th Independence Celebration at IAU
DESCRIPTION:
LOCATION:
END:VEVENT
END:VCALENDAR
